BEGIN:VCALENDAR
VERSION:2.0
PRODID:-//Ladysmith Maritime Society - ECPv6.15.20//NONSGML v1.0//EN
CALSCALE:GREGORIAN
METHOD:PUBLISH
X-WR-CALNAME:Ladysmith Maritime Society
X-ORIGINAL-URL:https://www.lmsmarina.ca
X-WR-CALDESC:Events for Ladysmith Maritime Society
REFRESH-INTERVAL;VALUE=DURATION:PT1H
X-Robots-Tag:noindex
X-PUBLISHED-TTL:PT1H
BEGIN:VTIMEZONE
TZID:America/Vancouver
BEGIN:DAYLIGHT
TZOFFSETFROM:-0800
TZOFFSETTO:-0700
TZNAME:PDT
DTSTART:20220313T100000
END:DAYLIGHT
BEGIN:STANDARD
TZOFFSETFROM:-0700
TZOFFSETTO:-0800
TZNAME:PST
DTSTART:20221106T090000
END:STANDARD
BEGIN:DAYLIGHT
TZOFFSETFROM:-0800
TZOFFSETTO:-0700
TZNAME:PDT
DTSTART:20230312T100000
END:DAYLIGHT
BEGIN:STANDARD
TZOFFSETFROM:-0700
TZOFFSETTO:-0800
TZNAME:PST
DTSTART:20231105T090000
END:STANDARD
BEGIN:DAYLIGHT
TZOFFSETFROM:-0800
TZOFFSETTO:-0700
TZNAME:PDT
DTSTART:20240310T100000
END:DAYLIGHT
BEGIN:STANDARD
TZOFFSETFROM:-0700
TZOFFSETTO:-0800
TZNAME:PST
DTSTART:20241103T090000
END:STANDARD
BEGIN:DAYLIGHT
TZOFFSETFROM:-0800
TZOFFSETTO:-0700
TZNAME:PDT
DTSTART:20250309T100000
END:DAYLIGHT
BEGIN:STANDARD
TZOFFSETFROM:-0700
TZOFFSETTO:-0800
TZNAME:PST
DTSTART:20251102T090000
END:STANDARD
BEGIN:DAYLIGHT
TZOFFSETFROM:-0800
TZOFFSETTO:-0700
TZNAME:PDT
DTSTART:20260308T100000
END:DAYLIGHT
BEGIN:STANDARD
TZOFFSETFROM:-0700
TZOFFSETTO:-0800
TZNAME:PST
DTSTART:20261101T090000
END:STANDARD
END:VTIMEZONE
BEGIN:VEVENT
DTSTART;TZID=America/Vancouver:20250831T123000
DTEND;TZID=America/Vancouver:20250831T150000
DTSTAMP:20260423T034236
CREATED:20250801T192123Z
LAST-MODIFIED:20250801T192123Z
UID:10000580-1756643400-1756652400@www.lmsmarina.ca
SUMMARY:MARITIMER HARBOUR TOUR - 12:30pm-3:00pm
DESCRIPTION:Join us for a 90 minute tour of Ladysmith harbour aboard our heritage vessel\, Maritimer\, as you listen to stories of local history\, observe otters\, seals\, and jellyfish in their natural habitat\, and watch eagles\, herons\, and cormorants soar overhead or dive for fish.
URL:https://www.lmsmarina.ca/event/maritimer-harbour-tour-1230pm-300pm-8/
LOCATION:Ladysmith Fishermen’s Wharf\, 837 Ludlow Road\, Ladysmith\, BC\, V9G 1A1\, Canada
END:VEVENT
BEGIN:VEVENT
DTSTART;TZID=America/Vancouver:20250831T093000
DTEND;TZID=America/Vancouver:20250831T120000
DTSTAMP:20260423T034236
CREATED:20250801T192012Z
LAST-MODIFIED:20250801T192012Z
UID:10000566-1756632600-1756641600@www.lmsmarina.ca
SUMMARY:MARITIMER HARBOUR TOUR - 9:30am-12:00pm
DESCRIPTION:Join us for a 90 minute tour of Ladysmith harbour aboard our heritage vessel\, Maritimer\, as you listen to stories of local history\, observe otters\, seals\, and jellyfish in their natural habitat\, and watch eagles\, herons\, and cormorants soar overhead or dive for fish.
URL:https://www.lmsmarina.ca/event/maritimer-harbour-tour-930am-1200pm-11/
LOCATION:Ladysmith Fishermen’s Wharf\, 837 Ludlow Road\, Ladysmith\, BC\, V9G 1A1\, Canada
END:VEVENT
BEGIN:VEVENT
DTSTART;TZID=America/Vancouver:20250830T123000
DTEND;TZID=America/Vancouver:20250830T150000
DTSTAMP:20260423T034236
CREATED:20250801T191640Z
LAST-MODIFIED:20250801T191640Z
UID:10000572-1756557000-1756566000@www.lmsmarina.ca
SUMMARY:MARITIMER HARBOUR TOUR - 12:30pm-3:00pm
DESCRIPTION:Join us for a 90 minute tour of Ladysmith harbour aboard our heritage vessel\, Maritimer\, as you listen to stories of local history\, observe otters\, seals\, and jellyfish in their natural habitat\, and watch eagles\, herons\, and cormorants soar overhead or dive for fish.
URL:https://www.lmsmarina.ca/event/maritimer-harbour-tour-1230pm-300pm-7/
LOCATION:Ladysmith Fishermen’s Wharf\, 837 Ludlow Road\, Ladysmith\, BC\, V9G 1A1\, Canada
END:VEVENT
BEGIN:VEVENT
DTSTART;TZID=America/Vancouver:20250830T093000
DTEND;TZID=America/Vancouver:20250830T123000
DTSTAMP:20260423T034236
CREATED:20250801T191443Z
LAST-MODIFIED:20250801T191443Z
UID:10000581-1756546200-1756557000@www.lmsmarina.ca
SUMMARY:MARITIMER HARBOUR TOUR - 9:30am-12:00pm
DESCRIPTION:Join us for a 90 minute tour of Ladysmith harbour aboard our heritage vessel\, Maritimer\, as you listen to stories of local history\, observe otters\, seals\, and jellyfish in their natural habitat\, and watch eagles\, herons\, and cormorants soar overhead or dive for fish.
URL:https://www.lmsmarina.ca/event/maritimer-harbour-tour-930am-1200pm-10/
LOCATION:Ladysmith Fishermen’s Wharf\, 837 Ludlow Road\, Ladysmith\, BC\, V9G 1A1\, Canada
END:VEVENT
BEGIN:VEVENT
DTSTART;TZID=America/Vancouver:20250817T123000
DTEND;TZID=America/Vancouver:20250817T150000
DTSTAMP:20260423T034236
CREATED:20250801T190457Z
LAST-MODIFIED:20250801T190457Z
UID:10000577-1755433800-1755442800@www.lmsmarina.ca
SUMMARY:MARITIMER HARBOUR TOUR - 12:30pm-3:00pm
DESCRIPTION:Join us for a 90 minute tour of Ladysmith harbour aboard our heritage vessel\, Maritimer\, as you listen to stories of local history\, observe otters\, seals\, and jellyfish in their natural habitat\, and watch eagles\, herons\, and cormorants soar overhead or dive for fish.
URL:https://www.lmsmarina.ca/event/maritimer-harbour-tour-1230pm-300pm-4/
LOCATION:Ladysmith Fishermen’s Wharf\, 837 Ludlow Road\, Ladysmith\, BC\, V9G 1A1\, Canada
END:VEVENT
BEGIN:VEVENT
DTSTART;TZID=America/Vancouver:20250817T093000
DTEND;TZID=America/Vancouver:20250817T120000
DTSTAMP:20260423T034236
CREATED:20250801T190218Z
LAST-MODIFIED:20250803T145541Z
UID:10000569-1755423000-1755432000@www.lmsmarina.ca
SUMMARY:MARITIMER HARBOUR TOUR - 9:30am-12:00pm
DESCRIPTION:Join us for a 90 minute tour of Ladysmith harbour aboard our heritage vessel\, Maritimer\, as you listen to stories of local history\, observe otters\, seals\, and jellyfish in their natural habitat\, and watch eagles\, herons\, and cormorants soar overhead or dive for fish.
URL:https://www.lmsmarina.ca/event/maritimer-harbour-tour-930am-1200pm-8/
LOCATION:Ladysmith Fishermen’s Wharf\, 837 Ludlow Road\, Ladysmith\, BC\, V9G 1A1\, Canada
END:VEVENT
BEGIN:VEVENT
DTSTART;TZID=America/Vancouver:20250816T123000
DTEND;TZID=America/Vancouver:20250816T150000
DTSTAMP:20260423T034236
CREATED:20250801T185652Z
LAST-MODIFIED:20250804T002615Z
UID:10000576-1755347400-1755356400@www.lmsmarina.ca
SUMMARY:MARITIMER HARBOUR TOUR - 12:30pm-3:00pm
DESCRIPTION:Join us for a 90 minute tour of Ladysmith harbour aboard our heritage vessel\, Maritimer\, as you listen to stories of local history\, observe otters\, seals\, and jellyfish in their natural habitat\, and watch eagles\, herons\, and cormorants soar overhead or dive for fish.
URL:https://www.lmsmarina.ca/event/maritimer-harbour-tour-1230-300pm/
LOCATION:Ladysmith Fishermen’s Wharf\, 837 Ludlow Road\, Ladysmith\, BC\, V9G 1A1\, Canada
END:VEVENT
BEGIN:VEVENT
DTSTART;TZID=America/Vancouver:20250816T093000
DTEND;TZID=America/Vancouver:20250816T120000
DTSTAMP:20260423T034236
CREATED:20250801T185449Z
LAST-MODIFIED:20250803T143333Z
UID:10000568-1755336600-1755345600@www.lmsmarina.ca
SUMMARY:MARITIMER HARBOUR TOUR - 9:30am-12:00pm
DESCRIPTION:Join us for a 90 minute tour of Ladysmith harbour aboard our heritage vessel\, Maritimer\, as you listen to stories of local history\, observe otters\, seals\, and jellyfish in their natural habitat\, and watch eagles\, herons\, and cormorants soar overhead or dive for fish.
URL:https://www.lmsmarina.ca/event/maritimer-harbour-tour-930am-1200pm-7/
LOCATION:Ladysmith Fishermen’s Wharf\, 837 Ludlow Road\, Ladysmith\, BC\, V9G 1A1\, Canada
END:VEVENT
BEGIN:VEVENT
DTSTART;TZID=America/Vancouver:20250810T123000
DTEND;TZID=America/Vancouver:20250810T150000
DTSTAMP:20260423T034236
CREATED:20250801T184814Z
LAST-MODIFIED:20250815T201259Z
UID:10000575-1754829000-1754838000@www.lmsmarina.ca
SUMMARY:CANCELLED DUE TO HIGH WINDS: MARITIMER HARBOUR TOUR - 12:30pm-3:00pm
DESCRIPTION:Join us for a 90 minute tour of Ladysmith harbour aboard our heritage vessel\, Maritimer\, as you listen to stories of local history\, observe otters\, seals\, and jellyfish in their natural habitat\, and watch eagles\, herons\, and cormorants soar overhead or dive for fish.
URL:https://www.lmsmarina.ca/event/maritimer-harbour-tour-1230am-300pm-2/
LOCATION:Ladysmith Fishermen’s Wharf\, 837 Ludlow Road\, Ladysmith\, BC\, V9G 1A1\, Canada
END:VEVENT
BEGIN:VEVENT
DTSTART;TZID=America/Vancouver:20250810T093000
DTEND;TZID=America/Vancouver:20250810T120000
DTSTAMP:20260423T034236
CREATED:20250801T184539Z
LAST-MODIFIED:20250801T184539Z
UID:10000565-1754818200-1754827200@www.lmsmarina.ca
SUMMARY:MARITIMER HARBOUR TOUR - 9:30am-12:00pm
DESCRIPTION:Join us for a 90 minute tour of Ladysmith harbour aboard our heritage vessel\, Maritimer\, as you listen to stories of local history\, observe otters\, seals\, and jellyfish in their natural habitat\, and watch eagles\, herons\, and cormorants soar overhead or dive for fish.
URL:https://www.lmsmarina.ca/event/maritimer-harbour-tour-930am-1200pm-6/
LOCATION:Ladysmith Fishermen’s Wharf\, 837 Ludlow Road\, Ladysmith\, BC\, V9G 1A1\, Canada
END:VEVENT
BEGIN:VEVENT
DTSTART;TZID=America/Vancouver:20250809T123000
DTEND;TZID=America/Vancouver:20250809T150000
DTSTAMP:20260423T034236
CREATED:20250801T183752Z
LAST-MODIFIED:20250804T002410Z
UID:10000574-1754742600-1754751600@www.lmsmarina.ca
SUMMARY:MARITIMER HARBOUR TOUR - 12:30pm-3:00pm
DESCRIPTION:Join us for a 90 minute tour of Ladysmith harbour aboard our heritage vessel\, Maritimer\, as you listen to stories of local history\, observe otters\, seals\, and jellyfish in their natural habitat\, and watch eagles\, herons\, and cormorants soar overhead or dive for fish.
URL:https://www.lmsmarina.ca/event/maritimer-harbour-tour-1230am-300pm/
LOCATION:Ladysmith Fishermen’s Wharf\, 837 Ludlow Road\, Ladysmith\, BC\, V9G 1A1\, Canada
END:VEVENT
BEGIN:VEVENT
DTSTART;TZID=America/Vancouver:20250809T093000
DTEND;TZID=America/Vancouver:20250809T120000
DTSTAMP:20260423T034236
CREATED:20250801T142203Z
LAST-MODIFIED:20250803T143551Z
UID:10000567-1754731800-1754740800@www.lmsmarina.ca
SUMMARY:MARITIMER HARBOUR TOUR - 9:30am-12:00pm
DESCRIPTION:Join us for a 90 minute tour of Ladysmith harbour aboard our heritage vessel\, Maritimer\, as you listen to stories of local history\, observe otters\, seals\, and jellyfish in their natural habitat\, and watch eagles\, herons\, and cormorants soar overhead or dive for fish.
URL:https://www.lmsmarina.ca/event/maritimer-harbour-tour-930am-1200pm-5/
LOCATION:Ladysmith Fishermen’s Wharf\, 837 Ludlow Road\, Ladysmith\, BC\, V9G 1A1\, Canada
END:VEVENT
BEGIN:VEVENT
DTSTART;TZID=America/Vancouver:20250803T123000
DTEND;TZID=America/Vancouver:20250803T150000
DTSTAMP:20260423T034236
CREATED:20250708T235714Z
LAST-MODIFIED:20250801T152233Z
UID:10000573-1754224200-1754233200@www.lmsmarina.ca
SUMMARY:MARITIMER HARBOUR TOUR - 12:30pm-3:00pm
DESCRIPTION:Join us for a 90 minute tour of Ladysmith harbour aboard our heritage vessel\, Maritimer\, as you listen to stories of local history\, observe otters\, seals\, and jellyfish in their natural habitat\, and watch eagles\, herons\, and cormorants soar overhead or dive for fish.
URL:https://www.lmsmarina.ca/event/maritimer-harbour-tour-1230pm-300pm-3/
LOCATION:Ladysmith Fishermen’s Wharf\, 837 Ludlow Road\, Ladysmith\, BC\, V9G 1A1\, Canada
END:VEVENT
BEGIN:VEVENT
DTSTART;TZID=America/Vancouver:20250803T093000
DTEND;TZID=America/Vancouver:20250803T120000
DTSTAMP:20260423T034236
CREATED:20250708T235141Z
LAST-MODIFIED:20250801T151836Z
UID:10000564-1754213400-1754222400@www.lmsmarina.ca
SUMMARY:MARITIMER HARBOUR TOUR - 9:30am-12:00pm
DESCRIPTION:Join us for a 90 minute tour of Ladysmith harbour aboard our heritage vessel\, Maritimer\, as you listen to stories of local history\, observe otters\, seals\, and jellyfish in their natural habitat\, and watch eagles\, herons\, and cormorants soar overhead or dive for fish.
URL:https://www.lmsmarina.ca/event/maritimer-harbour-tour-930am-1200pm-3/
LOCATION:Ladysmith Fishermen’s Wharf\, 837 Ludlow Road\, Ladysmith\, BC\, V9G 1A1\, Canada
END:VEVENT
BEGIN:VEVENT
DTSTART;TZID=America/Vancouver:20250802T123000
DTEND;TZID=America/Vancouver:20250802T150000
DTSTAMP:20260423T034236
CREATED:20250708T213723Z
LAST-MODIFIED:20250727T010520Z
UID:10000562-1754137800-1754146800@www.lmsmarina.ca
SUMMARY:MARITIMER HARBOUR TOUR - 12:30pm-3:00pm
DESCRIPTION:Join us for a 90 minute tour of Ladysmith harbour aboard our heritage vessel\, Maritimer\, as you listen to stories of local history\, observe otters\, seals\, and jellyfish in their natural habitat\, and watch eagles\, herons\, and cormorants soar overhead or dive for fish.
URL:https://www.lmsmarina.ca/event/maritimer-harbour-tour-1230pm-300pm-2/
LOCATION:Ladysmith Fishermen’s Wharf\, 837 Ludlow Road\, Ladysmith\, BC\, V9G 1A1\, Canada
END:VEVENT
BEGIN:VEVENT
DTSTART;TZID=America/Vancouver:20250802T093000
DTEND;TZID=America/Vancouver:20250802T120000
DTSTAMP:20260423T034236
CREATED:20250708T214347Z
LAST-MODIFIED:20250727T011507Z
UID:10000563-1754127000-1754136000@www.lmsmarina.ca
SUMMARY:MARITIMER HARBOUR TOUR - 9:30am-12:00pm
DESCRIPTION:Join us for a 90 minute tour of Ladysmith harbour aboard our heritage vessel\, Maritimer\, as you listen to stories of local history\, observe otters\, seals\, and jellyfish in their natural habitat\, and watch eagles\, herons\, and cormorants soar overhead or dive for fish.
URL:https://www.lmsmarina.ca/event/maritimer-harbour-tour-930am-1200pm-2/
LOCATION:Ladysmith Fishermen’s Wharf\, 837 Ludlow Road\, Ladysmith\, BC\, V9G 1A1\, Canada
END:VEVENT
BEGIN:VEVENT
DTSTART;TZID=America/Vancouver:20250727T123000
DTEND;TZID=America/Vancouver:20250727T150000
DTSTAMP:20260423T034236
CREATED:20250712T224736Z
LAST-MODIFIED:20250725T165742Z
UID:10000583-1753619400-1753628400@www.lmsmarina.ca
SUMMARY:MARITIMER HARBOUR TOUR - 12:30pm-3:00pm
DESCRIPTION:Join us for a 90 minute tour of Ladysmith harbour aboard our heritage vessel\, Maritimer\, as you listen to stories of local history\, observe otters\, seals\, and jellyfish in their natural habitat\, and watch eagles\, herons\, and cormorants soar overhead or dive for fish.
URL:https://www.lmsmarina.ca/event/maritimer-harbour-tour-1230pm-300pm/
LOCATION:Ladysmith Fishermen’s Wharf\, 837 Ludlow Road\, Ladysmith\, BC\, V9G 1A1\, Canada
END:VEVENT
BEGIN:VEVENT
DTSTART;TZID=America/Vancouver:20250727T093000
DTEND;TZID=America/Vancouver:20250727T120000
DTSTAMP:20260423T034236
CREATED:20250712T222933Z
LAST-MODIFIED:20250725T172609Z
UID:10000582-1753608600-1753617600@www.lmsmarina.ca
SUMMARY:MARITIMER HARBOUR TOUR - 9:30am-12:00pm
DESCRIPTION:Join us for a 90 minute tour of Ladysmith harbour aboard our heritage vessel\, Maritimer\, as you listen to stories of local history\, observe otters\, seals\, and jellyfish in their natural habitat\, and watch eagles\, herons\, and cormorants soar overhead or dive for fish.
URL:https://www.lmsmarina.ca/event/maritimer-harbour-tour-930am-1200pm/
LOCATION:Ladysmith Fishermen’s Wharf\, 837 Ludlow Road\, Ladysmith\, BC\, V9G 1A1\, Canada
END:VEVENT
BEGIN:VEVENT
DTSTART;TZID=America/Vancouver:20250726T123000
DTEND;TZID=America/Vancouver:20250726T150000
DTSTAMP:20260423T034236
CREATED:20250708T192508Z
LAST-MODIFIED:20250725T172041Z
UID:10000559-1753533000-1753542000@www.lmsmarina.ca
SUMMARY:MARITIMER HARBOUR TOUR - 12:30pm-3:00pm
DESCRIPTION:Join us for a 90 minute tour of Ladysmith harbour aboard our heritage vessel\, Maritimer\, as you listen to stories of local history\, observe otters\, seals\, and jellyfish in their natural habitat\, and watch eagles\, herons\, and cormorants soar overhead or dive for fish.
URL:https://www.lmsmarina.ca/event/maritimer-harbour-tour-afternoon/
LOCATION:Ladysmith Fishermen’s Wharf\, 837 Ludlow Road\, Ladysmith\, BC\, V9G 1A1\, Canada
END:VEVENT
BEGIN:VEVENT
DTSTART;TZID=America/Vancouver:20250726T093000
DTEND;TZID=America/Vancouver:20250726T120000
DTSTAMP:20260423T034236
CREATED:20250708T191248Z
LAST-MODIFIED:20250725T171906Z
UID:10000558-1753522200-1753531200@www.lmsmarina.ca
SUMMARY:MARITIMER HARBOUR TOUR - 9:30am-12:00pm
DESCRIPTION:Join us for a 90 minute tour of Ladysmith harbour aboard our heritage vessel\, Maritimer\, as you listen to stories of local history\, observe otters\, seals\, and jellyfish in their natural habitat\, and watch eagles\, herons\, and cormorants soar overhead or dive for fish.
URL:https://www.lmsmarina.ca/event/maritimer-harbour-tour/
LOCATION:Ladysmith Fishermen’s Wharf\, 837 Ludlow Road\, Ladysmith\, BC\, V9G 1A1\, Canada
END:VEVENT
BEGIN:VEVENT
DTSTART;TZID=America/Vancouver:20231025T180000
DTEND;TZID=America/Vancouver:20231025T200000
DTSTAMP:20260423T034236
CREATED:20231017T214054Z
LAST-MODIFIED:20231017T214054Z
UID:10000022-1698256800-1698264000@www.lmsmarina.ca
SUMMARY:Community Open House
DESCRIPTION:You are invited to attend an Open House event\, hosted by Ladysmith Maritime Society\, to receive updates on the future of the Ladysmith Community Marina. We appreciate the community rallying around the Marina\, and hope to see you there!
URL:https://www.lmsmarina.ca/event/community-open-house/
LOCATION:Eagles Hall\, 921 1st Ave\, Ladysmith\, BC\, V9G 1A5\, Canada
END:VEVENT
END:VCALENDAR