BEGIN:VCALENDAR
VERSION:2.0
PRODID:-//Ladysmith Maritime Society - ECPv6.15.20//NONSGML v1.0//EN
CALSCALE:GREGORIAN
METHOD:PUBLISH
X-ORIGINAL-URL:https://www.lmsmarina.ca
X-WR-CALDESC:Events for Ladysmith Maritime Society
REFRESH-INTERVAL;VALUE=DURATION:PT1H
X-Robots-Tag:noindex
X-PUBLISHED-TTL:PT1H
BEGIN:VTIMEZONE
TZID:America/Vancouver
BEGIN:DAYLIGHT
TZOFFSETFROM:-0800
TZOFFSETTO:-0700
TZNAME:PDT
DTSTART:20240310T100000
END:DAYLIGHT
BEGIN:STANDARD
TZOFFSETFROM:-0700
TZOFFSETTO:-0800
TZNAME:PST
DTSTART:20241103T090000
END:STANDARD
BEGIN:DAYLIGHT
TZOFFSETFROM:-0800
TZOFFSETTO:-0700
TZNAME:PDT
DTSTART:20250309T100000
END:DAYLIGHT
BEGIN:STANDARD
TZOFFSETFROM:-0700
TZOFFSETTO:-0800
TZNAME:PST
DTSTART:20251102T090000
END:STANDARD
BEGIN:DAYLIGHT
TZOFFSETFROM:-0800
TZOFFSETTO:-0700
TZNAME:PDT
DTSTART:20260308T100000
END:DAYLIGHT
BEGIN:STANDARD
TZOFFSETFROM:-0700
TZOFFSETTO:-0800
TZNAME:PST
DTSTART:20261101T090000
END:STANDARD
END:VTIMEZONE
BEGIN:VEVENT
DTSTART;TZID=America/Vancouver:20250817T110000
DTEND;TZID=America/Vancouver:20250817T150000
DTSTAMP:20260423T095014
CREATED:20250415T192248Z
LAST-MODIFIED:20250807T175951Z
UID:10000034-1755428400-1755442800@www.lmsmarina.ca
SUMMARY:Sea Life Celebration
DESCRIPTION:The Sea Life Celebration is a waterfront experience like no other\, enabling kids and adults to experience sea life first hand with touch tanks\, music\, art and science activities\, games and stories designed to appeal to children (and adults!) of all ages. and allow them to explore how sea life and oceans contribute to all our lives. \nThe Celebration provides the perfect opportunity to introduce young people to the magic and wonder of the sea life of the Ladysmith Harbour\, and to inspire our youth to protect it.
URL:https://www.lmsmarina.ca/event/sea-life-celebration/
LOCATION:Transfer Beach
CATEGORIES:Local Events
END:VEVENT
BEGIN:VEVENT
DTSTART;TZID=America/Vancouver:20250802T100000
DTEND;TZID=America/Vancouver:20250802T140000
DTSTAMP:20260423T095014
CREATED:20250415T192054Z
LAST-MODIFIED:20250710T233001Z
UID:10000033-1754128800-1754143200@www.lmsmarina.ca
SUMMARY:Ladysmith Days
DESCRIPTION:Bring your friends and family to Ladysmith Days and enjoy a two-day\, fun-filled event August 2nd and 3rd\, hosted by the Ladysmith Celebration Society. \n \nStarting Saturday\, Aug 2nd –  if you’re an early riser – don’t miss the Bullhead Derby at Oyster Bay Marina at 7am and then drop by Transfer Beach for a pancake breakfast at 8am. There will also be plenty of delectable food from the food trucks throughout the day. On Sunday night\, enjoy a live outdoor concert\, then get ready to be wowed by a beautiful fireworks display!  For a complete schedule of events\, click here. \nThe Ladysmith Maritime Society is excited to be a part of this magical weekend. You’ll find us at the Ladysmith Days Expo at Transfer Beach\, from 10am to 2pm. We look forward to seeing you there!
URL:https://www.lmsmarina.ca/event/ladysmith-days/
LOCATION:Transfer Beach
CATEGORIES:Local Events
END:VEVENT
BEGIN:VEVENT
DTSTART;TZID=America/Vancouver:20250501T170000
DTEND;TZID=America/Vancouver:20250501T190000
DTSTAMP:20260423T095014
CREATED:20250415T191209Z
LAST-MODIFIED:20250417T205948Z
UID:10000032-1746118800-1746126000@www.lmsmarina.ca
SUMMARY:Ladysmith Volunteer Fair
DESCRIPTION:Ever wanted to be part of a great organization of friendly\, ocean-loving people? Looking for a fun and meaningful way to contribute to Ladysmith’s maritime heritage? And no\, you don’t need to own a boat! \nCome and see us at the Ladysmith Volunteer Fair\, May 1st at Aggie Hall. Learn about the Society’s 40 year history and view photos of heritage vessels lovingly restored by the Society’s expert artisans.
URL:https://www.lmsmarina.ca/event/ladysmith-volunteer-fair/
LOCATION:Aggie Hall\, 1110 1st Avenue\, Ladysmith\, BC\, V9G 1A4\, Canada
CATEGORIES:Local Events
END:VEVENT
END:VCALENDAR